BEGIN:VCALENDAR
VERSION:2.0
PRODID:SchoolNow
CALSCALE:GREGORIAN
BEGIN:VEVENT
UID:0e83add2-3372-11f1-92e9-0a58a9feac02
DTSTAMP:20260408T174038Z
SUMMARY:McCracken Symphonic Band 2026 SuperState Concert Band Festival
LOCATION:Krannert Center for the Performing Arts\, 500 S Goodwin Ave Room 4
 -122\, Urbana\, IL 61801\, USA
URL;VALUE=URI:https://www.sd735.org/newsletters/the-weekly/mcccal/calendar/
 8979904/mccracken-symphonic-band-2026-superstate-concert-band-festival
DTSTART;VALUE=DATE:20260508
DTEND;VALUE=DATE:20260509
END:VEVENT
END:VCALENDAR
