BEGIN:VCALENDAR
VERSION:2.0
PRODID:SchoolNow
CALSCALE:GREGORIAN
BEGIN:VEVENT
UID:3d61064e-1e1f-11f1-ad5b-0a58a9feac02
DTSTAMP:20260312T142454Z
SUMMARY:McCracken Boys 6th Grade Volleyball Tryouts
URL;VALUE=URI:https://www.sd735.org/newsletters/the-weekly/mcccal/calendar/
 8912894/mccracken-boys-6th-grade-volleyball-tryouts
DTSTART:20260313T200000Z
DTEND:20260313T211500Z
END:VEVENT
END:VCALENDAR
