BEGIN:VCALENDAR
VERSION:2.0
PRODID:SchoolNow
CALSCALE:GREGORIAN
BEGIN:VEVENT
UID:c1fc5430-17f8-11f1-a749-0affe7921747
DTSTAMP:20260304T183419Z
SUMMARY:McCracken Boys Varsity Volleyball Tryouts
URL;VALUE=URI:https://www.sd735.org/newsletters/the-weekly/mcccal/calendar/
 8890965/mccracken-boys-varsity-volleyball-tryouts
DTSTART:20260313T201500Z
DTEND:20260313T211500Z
END:VEVENT
END:VCALENDAR
