BEGIN:VCALENDAR
VERSION:2.0
PRODID:SchoolNow
CALSCALE:GREGORIAN
BEGIN:VEVENT
UID:aacff834-17f8-11f1-a6ba-0a58a9feac02
DTSTAMP:20260304T183341Z
SUMMARY:McCracken Boys Varsity Volleyball Tryouts
URL;VALUE=URI:https://www.sd735.org/newsletters/the-weekly/mcccal/calendar/
 8890962/mccracken-boys-varsity-volleyball-tryouts
DTSTART:20260311T201500Z
DTEND:20260311T211500Z
END:VEVENT
END:VCALENDAR
