BEGIN:VCALENDAR
VERSION:2.0
PRODID:SchoolNow
CALSCALE:GREGORIAN
BEGIN:VEVENT
UID:55713314-fac8-11f0-9939-0afff05128fb
DTSTAMP:20260126T150438Z
SUMMARY:McCracken Buzzbot Robotics Competition
LOCATION:Niles North High School\, 9800 Lawler Ave\, Skokie\, IL 60077\, US
 A
URL;VALUE=URI:https://www.sd735.org/newsletters/the-weekly/mcccal/calendar/
 8840655/mccracken-buzzbot-robotics-competition
DTSTART:20260219T223000Z
DTEND:20260220T003000Z
END:VEVENT
END:VCALENDAR
