BEGIN:VCALENDAR
VERSION:2.0
PRODID:SchoolNow
CALSCALE:GREGORIAN
BEGIN:VEVENT
UID:d563b432-ea3f-11f0-a7ad-0a58a9feac02
DTSTAMP:20260105T140713Z
SUMMARY:8th Grade Curriculum Night at Niles North
LOCATION:Niles North High School\, 9800 Lawler Ave\, Skokie\, IL 60077\, US
 A
URL;VALUE=URI:https://www.sd735.org/newsletters/the-weekly/mcccal/calendar/
 8828688/8th-grade-curriculum-night-at-niles-north
DTSTART:20260115T000000Z
DTEND:20260115T020000Z
END:VEVENT
END:VCALENDAR
