BEGIN:VCALENDAR
VERSION:2.0
PRODID:SchoolNow
CALSCALE:GREGORIAN
BEGIN:VEVENT
UID:b5b4a002-9e2b-11f0-a9a0-0a58a9feac02
DTSTAMP:20250930T183141Z
SUMMARY:McCracken Solo & Ensemble Recital
LOCATION:Oliver McCracken Middle School\, 8000 E Prairie Rd\, Skokie\, IL 6
 0076\, USA
URL;VALUE=URI:https://www.sd735.org/newsletters/the-weekly/mcccal/calendar/
 8681491/mccracken-solo-ensemble-recital
DTSTART:20260214T140000Z
DTEND:20260214T150000Z
END:VEVENT
END:VCALENDAR
