BEGIN:VCALENDAR
VERSION:2.0
PRODID:SchoolNow
CALSCALE:GREGORIAN
BEGIN:VEVENT
UID:fb7936e2-9e1d-11f0-81c3-0a58a9feac02
DTSTAMP:20250930T165325Z
SUMMARY:Symphonic Band Midwest Clinic Application Recording Session
LOCATION:Wentz Concert Hall & Fine Arts Center\, 171 E Chicago Ave\, Naperv
 ille\, IL 60540\, USA
URL;VALUE=URI:https://www.sd735.org/newsletters/the-weekly/mcccal/calendar/
 8680378/symphonic-band-midwest-clinic-application-recording-session
DTSTART;VALUE=DATE:20260302
DTEND;VALUE=DATE:20260303
END:VEVENT
END:VCALENDAR
