BEGIN:VCALENDAR
VERSION:2.0
PRODID:SchoolNow
CALSCALE:GREGORIAN
BEGIN:VEVENT
UID:4bba7b1a-9c6c-11f0-817d-02978cd4ae17
DTSTAMP:20250928T130858Z
SUMMARY:Illinois Grade School Music Association (IGSMA) District Contest
URL;VALUE=URI:https://www.sd735.org/newsletters/the-weekly/mcccal/calendar/
 8673351/illinois-grade-school-music-association-igsma-district-contest
DTSTART;VALUE=DATE:20260307
DTEND;VALUE=DATE:20260308
END:VEVENT
END:VCALENDAR
