BEGIN:VCALENDAR
VERSION:2.0
PRODID:SchoolNow
CALSCALE:GREGORIAN
BEGIN:VEVENT
UID:4448d3ea-9c6c-11f0-9581-0ea51842133d
DTSTAMP:20250928T130846Z
SUMMARY:Illinois Grade School Music Association (IGSMA) State Festival
URL;VALUE=URI:https://www.sd735.org/newsletters/the-weekly/mcccal/calendar/
 8673350/illinois-grade-school-music-association-igsma-state-festival
DTSTART;VALUE=DATE:20260425
DTEND;VALUE=DATE:20260426
END:VEVENT
END:VCALENDAR
