BEGIN:VCALENDAR
VERSION:2.0
PRODID:SchoolNow
CALSCALE:GREGORIAN
BEGIN:VEVENT
UID:66a1c0de-958f-11f0-9c90-0a58a9feac02
DTSTAMP:20250919T193238Z
SUMMARY:McCracken 8th Grade End of Year Celebration
URL;VALUE=URI:https://www.sd735.org/newsletters/the-weekly/mcccal/calendar/
 8643453/mccracken-8th-grade-end-of-year-celebration
DTSTART:20260522T230000Z
DTEND:20260523T010000Z
END:VEVENT
END:VCALENDAR
