BEGIN:VCALENDAR
VERSION:2.0
PRODID:SchoolNow
CALSCALE:GREGORIAN
BEGIN:VEVENT
UID:4b004f44-958f-11f0-ba8d-02d4aeb81cfd
DTSTAMP:20250919T193151Z
SUMMARY:McCracken 8th Grade Spring Choir Concert
LOCATION:Oliver McCracken Middle School\, 8000 E Prairie Rd\, Skokie\, IL 6
 0076\, USA
URL;VALUE=URI:https://www.sd735.org/newsletters/the-weekly/mcccal/calendar/
 8643451/mccracken-8th-grade-spring-choir-concert
DTSTART:20260505T010000Z
DTEND:20260505T013000Z
END:VEVENT
END:VCALENDAR
