BEGIN:VCALENDAR
VERSION:2.0
PRODID:SchoolNow
CALSCALE:GREGORIAN
BEGIN:VEVENT
UID:3bd0ffaa-958f-11f0-959d-02d4aeb81cfd
DTSTAMP:20250919T193126Z
SUMMARY:McCracken April Show-ers (Spring School Community Event)
LOCATION:Oliver McCracken Middle School\, 8000 E Prairie Rd\, Skokie\, IL 6
 0076\, USA
URL;VALUE=URI:https://www.sd735.org/newsletters/the-weekly/mcccal/calendar/
 8643449/mccracken-april-show-ers-spring-school-community-event
DTSTART:20260423T230000Z
DTEND:20260424T003000Z
END:VEVENT
END:VCALENDAR
