BEGIN:VCALENDAR
VERSION:2.0
PRODID:SchoolNow
CALSCALE:GREGORIAN
BEGIN:VEVENT
UID:2243d40e-958f-11f0-8c7b-0a58a9feac02
DTSTAMP:20250919T193043Z
SUMMARY:McCracken Intermediate & Concert Bands Concert
LOCATION:Oliver McCracken Middle School\, 8000 E Prairie Rd\, Skokie\, IL 6
 0076\, USA
URL;VALUE=URI:https://www.sd735.org/newsletters/the-weekly/mcccal/calendar/
 8643445/mccracken-intermediate-concert-bands-concert
DTSTART:20260310T000000Z
DTEND:20260310T010000Z
END:VEVENT
END:VCALENDAR
