BEGIN:VCALENDAR
VERSION:2.0
PRODID:SchoolNow
CALSCALE:GREGORIAN
BEGIN:VEVENT
UID:fa084408-8ceb-11f0-805a-0eac18ed6063
DTSTAMP:20250908T194238Z
SUMMARY:McCracken Boys 6th Grade Basketball Tryouts
URL;VALUE=URI:https://www.sd735.org/newsletters/the-weekly/mcccal/calendar/
 8596124/mccracken-boys-6th-grade-basketball-tryouts
DTSTART:20260107T210000Z
DTEND:20260107T223000Z
END:VEVENT
END:VCALENDAR
