BEGIN:VCALENDAR
VERSION:2.0
PRODID:SchoolNow
CALSCALE:GREGORIAN
BEGIN:VEVENT
UID:cf6d9412-8cde-11f0-b887-0a58a9feac02
DTSTAMP:20250908T180823Z
SUMMARY:McCracken Graduation Picture Day
URL;VALUE=URI:https://www.sd735.org/newsletters/the-weekly/mcccal/calendar/
 8596036/mccracken-graduation-picture-day
DTSTART:20260129T140000Z
DTEND:20260129T170000Z
END:VEVENT
END:VCALENDAR
