BEGIN:VCALENDAR
VERSION:2.0
PRODID:SchoolNow
CALSCALE:GREGORIAN
BEGIN:VEVENT
UID:be5283d6-8cde-11f0-8745-0a58a9feac02
DTSTAMP:20250908T180755Z
SUMMARY:McCracken Boys 6th Grade Basketball Tryouts
URL;VALUE=URI:https://www.sd735.org/newsletters/the-weekly/mcccal/calendar/
 8596035/mccracken-boys-6th-grade-basketball-tryouts
DTSTART:20260108T210000Z
DTEND:20260108T223000Z
END:VEVENT
END:VCALENDAR
