BEGIN:VCALENDAR
VERSION:2.0
PRODID:SchoolNow
CALSCALE:GREGORIAN
BEGIN:VEVENT
UID:b4e13a72-8cde-11f0-9a71-0a58a9feac02
DTSTAMP:20250908T180739Z
SUMMARY:McCracken Boys JV Basketball Tryouts
URL;VALUE=URI:https://www.sd735.org/newsletters/the-weekly/mcccal/calendar/
 8596033/mccracken-boys-jv-basketball-tryouts
DTSTART:20260108T223000Z
DTEND:20260109T000000Z
END:VEVENT
END:VCALENDAR
