BEGIN:VCALENDAR
VERSION:2.0
PRODID:SchoolNow
CALSCALE:GREGORIAN
BEGIN:VEVENT
UID:aa5b3a26-8cde-11f0-80ad-0a58a9feac02
DTSTAMP:20250908T180721Z
SUMMARY:McCracken Boys JV Basketball Tryouts
URL;VALUE=URI:https://www.sd735.org/newsletters/the-weekly/mcccal/calendar/
 8596031/mccracken-boys-jv-basketball-tryouts
DTSTART:20260107T223000Z
DTEND:20260108T000000Z
END:VEVENT
END:VCALENDAR
