BEGIN:VCALENDAR
VERSION:2.0
PRODID:SchoolNow
CALSCALE:GREGORIAN
BEGIN:VEVENT
UID:a61384aa-8cde-11f0-b335-02cdd1537759
DTSTAMP:20250908T180714Z
SUMMARY:McCracken Boys Varsity Basketball Tryouts
URL;VALUE=URI:https://www.sd735.org/newsletters/the-weekly/mcccal/calendar/
 8596030/mccracken-boys-varsity-basketball-tryouts
DTSTART:20260105T210000Z
DTEND:20260105T223000Z
END:VEVENT
END:VCALENDAR
