BEGIN:VCALENDAR
VERSION:2.0
PRODID:SchoolNow
CALSCALE:GREGORIAN
BEGIN:VEVENT
UID:e4a11d1a-8a98-11f0-a904-0a58a9feac02
DTSTAMP:20250905T204252Z
SUMMARY:McCracken BuzzBot Robotics Competition
URL;VALUE=URI:https://www.sd735.org/newsletters/the-weekly/mcccal/calendar/
 8585039/mccracken-buzzbot-robotics-competition
DTSTART:20260115T223000Z
DTEND:20260116T003000Z
END:VEVENT
END:VCALENDAR
