BEGIN:VCALENDAR
VERSION:2.0
PRODID:SchoolNow
CALSCALE:GREGORIAN
BEGIN:VEVENT
UID:be17d366-880c-11f0-863d-0e5d3462789d
DTSTAMP:20250902T145435Z
SUMMARY:McCracken 8th Grade Graduation
LOCATION:Niles North High School\, 9800 Lawler Ave\, Skokie\, IL 60077\, US
 A
URL;VALUE=URI:https://www.sd735.org/newsletters/the-weekly/mcccal/calendar/
 8570691/mccracken-8th-grade-graduation
DTSTART:20260528T230000Z
DTEND:20260529T003000Z
END:VEVENT
END:VCALENDAR
