BEGIN:VCALENDAR
VERSION:2.0
PRODID:SchoolNow
CALSCALE:GREGORIAN
BEGIN:VEVENT
UID:5c8770c4-4004-11f1-9dd0-0a58a9feac02
DTSTAMP:20260424T173810Z
SUMMARY:McCracken Plant Sale
LOCATION:Oliver McCracken Middle School\, 8000 E Prairie Rd\, Skokie\, IL 6
 0076\, USA
URL;VALUE=URI:https://www.sd735.org/newsletters/the-weekly/735cal/calendar/
 9017118/mccracken-plant-sale
DTSTART:20260523T150000Z
DTEND:20260523T170000Z
END:VEVENT
END:VCALENDAR
