BEGIN:VCALENDAR
VERSION:2.0
PRODID:SchoolNow
CALSCALE:GREGORIAN
BEGIN:VEVENT
UID:c51a72fe-385b-11f1-b9bf-0a58a9feac02
DTSTAMP:20260414T234342Z
SUMMARY:Policy Committee Meeting
LOCATION:Oliver McCracken Middle School\, 8000 E Prairie Rd\, Skokie\, IL 6
 0076\, USA
URL;VALUE=URI:https://www.sd735.org/newsletters/the-weekly/735cal/calendar/
 8994266/policy-committee-meeting
DTSTART:20260416T220000Z
DTEND:20260417T000000Z
END:VEVENT
END:VCALENDAR
