BEGIN:VCALENDAR
VERSION:2.0
PRODID:SchoolNow
CALSCALE:GREGORIAN
BEGIN:VEVENT
UID:74576a84-359a-11f1-84e1-0a58a9feac02
DTSTAMP:20260411T113451Z
SUMMARY:Early Dismissal Tuesday
URL;VALUE=URI:https://www.sd735.org/newsletters/the-weekly/735cal/calendar/
 8986093/early-dismissal-tuesday
DTSTART;VALUE=DATE:20260526
DTEND;VALUE=DATE:20260527
END:VEVENT
END:VCALENDAR
