BEGIN:VCALENDAR
VERSION:2.0
PRODID:SchoolNow
CALSCALE:GREGORIAN
BEGIN:VEVENT
UID:45a0dc18-1bcb-11f1-9a88-0a58a9feac02
DTSTAMP:20260309T151848Z
SUMMARY:Policy Committee Meeting
LOCATION:Oliver McCracken Middle School\, 8000 E Prairie Rd\, Skokie\, IL 6
 0076\, USA
URL;VALUE=URI:https://www.sd735.org/newsletters/the-weekly/735cal/calendar/
 8904214/policy-committee-meeting
DTSTART:20260312T220000Z
DTEND:20260313T000000Z
END:VEVENT
END:VCALENDAR
