BEGIN:VCALENDAR
VERSION:2.0
PRODID:SchoolNow
CALSCALE:GREGORIAN
BEGIN:VEVENT
UID:705d1542-1b40-11f1-9985-0affde87d7a9
DTSTAMP:20260308T224500Z
SUMMARY:Special Board of Education Meeting (Open Session)
LOCATION:Oliver McCracken Middle School\, 8000 E Prairie Rd\, Skokie\, IL 6
 0076\, USA
URL;VALUE=URI:https://www.sd735.org/newsletters/the-weekly/735cal/calendar/
 8902321/special-board-of-education-meeting-open-session
DTSTART:20260319T000000Z
DTEND:20260319T020000Z
END:VEVENT
END:VCALENDAR
