BEGIN:VCALENDAR
VERSION:2.0
PRODID:SchoolNow
CALSCALE:GREGORIAN
BEGIN:VEVENT
UID:81dbcef2-1344-11f1-94b9-0a58a9feac02
DTSTAMP:20260226T185358Z
SUMMARY:eLearning Day (Election Day)
URL;VALUE=URI:https://www.sd735.org/newsletters/the-weekly/735cal/calendar/
 8873524/elearning-day-election-day
DTSTART;VALUE=DATE:20260317
DTEND;VALUE=DATE:20260318
END:VEVENT
END:VCALENDAR
