BEGIN:VCALENDAR
VERSION:2.0
PRODID:SchoolNow
CALSCALE:GREGORIAN
BEGIN:VEVENT
UID:653f70f4-0da5-11f1-92d8-0a58a9feac02
DTSTAMP:20260219T151224Z
SUMMARY:CANCELLED - Board of Education Workshop #2: Multilingual Learners
LOCATION:Oliver McCracken Middle School\, 8000 E Prairie Rd\, Skokie\, IL 6
 0076\, USA
URL;VALUE=URI:https://www.sd735.org/newsletters/the-weekly/735cal/calendar/
 8860619/cancelled-board-of-education-workshop-2-multilingual-learners
DTSTART:20260226T000000Z
DTEND:20260226T013000Z
END:VEVENT
END:VCALENDAR
