BEGIN:VCALENDAR
VERSION:2.0
PRODID:SchoolNow
CALSCALE:GREGORIAN
BEGIN:VEVENT
UID:ad670f64-f4c7-11f0-8c08-0a58a9feac02
DTSTAMP:20260118T234449Z
SUMMARY:Parent-Teacher Conference Registration
URL;VALUE=URI:https://www.sd735.org/newsletters/the-weekly/735cal/calendar/
 8837731/parent-teacher-conference-registration
DTSTART;VALUE=DATE:20260126
DTEND;VALUE=DATE:20260211
END:VEVENT
END:VCALENDAR
