BEGIN:VCALENDAR
VERSION:2.0
PRODID:SchoolNow
CALSCALE:GREGORIAN
BEGIN:VEVENT
UID:9d176f76-65b3-11f0-a13c-0afff061a507
DTSTAMP:20250720T215055Z
SUMMARY:Board of Education Regular Meeting
LOCATION:McCracken MPR
URL;VALUE=URI:https://www.sd735.org/newsletters/the-weekly/735cal/calendar/
 8432582/board-of-education-regular-meeting
DTSTART:20260311T000000Z
DTEND:20260311T023000Z
END:VEVENT
END:VCALENDAR
