BEGIN:VCALENDAR
VERSION:2.0
PRODID:SchoolNow
CALSCALE:GREGORIAN
BEGIN:VEVENT
UID:d60685bc-d4ce-11f0-83e7-0afff49cb66d
DTSTAMP:20251216T214528Z
SUMMARY:Middleton "Blooming Together" Learning Fair
LOCATION:John Middleton Elementary School\, 8300 St Louis Ave\, Skokie\, IL
  60076\, USA
URL;VALUE=URI:https://www.sd735.org/middleton/calendar/8820375/middleton-bl
 ooming-together-learning-fair
DTSTART:20260326T230000Z
DTEND:20260327T003000Z
END:VEVENT
END:VCALENDAR
