BEGIN:VCALENDAR
VERSION:2.0
PRODID:SchoolNow
CALSCALE:GREGORIAN
BEGIN:VEVENT
UID:d59fc96c-d4ce-11f0-9479-0afff49cb66d
DTSTAMP:20251216T214528Z
SUMMARY:Middleton Fitness Night
LOCATION:John Middleton Elementary School\, 8300 St Louis Ave\, Skokie\, IL
  60076\, USA
URL;VALUE=URI:https://www.sd735.org/middleton/calendar/8820372/middleton-fi
 tness-night
DTSTART:20260423T230000Z
DTEND:20260424T003000Z
END:VEVENT
END:VCALENDAR
