BEGIN:VCALENDAR
VERSION:2.0
PRODID:SchoolNow
CALSCALE:GREGORIAN
BEGIN:VEVENT
UID:d7e21cd8-c0e3-11f0-8259-0afff8cdefe5
DTSTAMP:20251216T214529Z
SUMMARY:Policy Committee Meeting
LOCATION:Oliver McCracken Middle School\, 8000 E Prairie Rd\, Skokie\, IL 6
 0076\, USA
URL;VALUE=URI:https://www.sd735.org/middleton/calendar/8794179/policy-commi
 ttee-meeting
DTSTART:20251113T230000Z
DTEND:20251114T010000Z
END:VEVENT
END:VCALENDAR
