BEGIN:VCALENDAR
VERSION:2.0
PRODID:SchoolNow
CALSCALE:GREGORIAN
BEGIN:VEVENT
UID:f8398464-be7f-11f0-baa8-0a58a9feac02
DTSTAMP:20251216T214529Z
SUMMARY:McCracken Boys JV Basketball at Golf
LOCATION:Golf Middle School\, 9401 Waukegan Rd\, Morton Grove\, IL 60053\, 
 USA
URL;VALUE=URI:https://www.sd735.org/middleton/calendar/8787997/mccracken-bo
 ys-jv-basketball-at-golf
DTSTART:20260203T220000Z
DTEND:20260203T230000Z
END:VEVENT
END:VCALENDAR
