BEGIN:VCALENDAR
VERSION:2.0
PRODID:SchoolNow
CALSCALE:GREGORIAN
BEGIN:VEVENT
UID:f83982e8-be7f-11f0-80f9-0a58a9feac02
DTSTAMP:20251216T214528Z
SUMMARY:McCracken Boys Varsity Basketball vs. Park View
LOCATION:Oliver McCracken Middle School\, 8000 E Prairie Rd\, Skokie\, IL 6
 0076\, USA
URL;VALUE=URI:https://www.sd735.org/middleton/calendar/8787996/mccracken-bo
 ys-varsity-basketball-vs-park-view
DTSTART:20260209T220000Z
DTEND:20260209T230000Z
END:VEVENT
END:VCALENDAR
