BEGIN:VCALENDAR
VERSION:2.0
PRODID:SchoolNow
CALSCALE:GREGORIAN
BEGIN:VEVENT
UID:f8398018-be7f-11f0-a6c7-0a58a9feac02
DTSTAMP:20251216T214528Z
SUMMARY:McCracken Boys 6th Grade Basketball vs. Old Orchard
LOCATION:Oliver McCracken Middle School\, 8000 E Prairie Rd\, Skokie\, IL 6
 0076\, USA
URL;VALUE=URI:https://www.sd735.org/middleton/calendar/8787994/mccracken-bo
 ys-6th-grade-basketball-vs-old-orchard
DTSTART:20260205T231500Z
DTEND:20260206T001500Z
END:VEVENT
END:VCALENDAR
