BEGIN:VCALENDAR
VERSION:2.0
PRODID:SchoolNow
CALSCALE:GREGORIAN
BEGIN:VEVENT
UID:f8397e74-be7f-11f0-ad65-0a58a9feac02
DTSTAMP:20251216T214529Z
SUMMARY:McCracken Boys JV Basketball vs. Fairview
LOCATION:Oliver McCracken Middle School\, 8000 E Prairie Rd\, Skokie\, IL 6
 0076\, USA
URL;VALUE=URI:https://www.sd735.org/middleton/calendar/8787993/mccracken-bo
 ys-jv-basketball-vs-fairview
DTSTART:20260224T221500Z
DTEND:20260224T231500Z
END:VEVENT
END:VCALENDAR
