BEGIN:VCALENDAR
VERSION:2.0
PRODID:SchoolNow
CALSCALE:GREGORIAN
BEGIN:VEVENT
UID:f8397b04-be7f-11f0-bbcf-0a58a9feac02
DTSTAMP:20251216T214528Z
SUMMARY:McCracken Boys JV Basketball at Lincoln Hall
LOCATION:Lincoln Hall Middle School\, 6855 N Crawford Ave\, Lincolnwood\, I
 L 60712\, USA
URL;VALUE=URI:https://www.sd735.org/middleton/calendar/8787991/mccracken-bo
 ys-jv-basketball-at-lincoln-hall
DTSTART:20260129T220000Z
DTEND:20260129T230000Z
END:VEVENT
END:VCALENDAR
