BEGIN:VCALENDAR
VERSION:2.0
PRODID:SchoolNow
CALSCALE:GREGORIAN
BEGIN:VEVENT
UID:f82f9756-be7f-11f0-a47d-0a58a9feac02
DTSTAMP:20251216T214528Z
SUMMARY:McCracken Boys JV Basketball Play In Game
URL;VALUE=URI:https://www.sd735.org/middleton/calendar/8787987/mccracken-bo
 ys-jv-basketball-play-in-game
DTSTART;VALUE=DATE:20260302
DTEND;VALUE=DATE:20260303
END:VEVENT
END:VCALENDAR
