BEGIN:VCALENDAR
VERSION:2.0
PRODID:SchoolNow
CALSCALE:GREGORIAN
BEGIN:VEVENT
UID:f82f8d10-be7f-11f0-8b5e-0a58a9feac02
DTSTAMP:20251216T214528Z
SUMMARY:McCracken Boys JV Basketball at Culver
LOCATION:Clarence E Culver School\, 6901 W Oakton St\, Niles\, IL 60714\, U
 SA
URL;VALUE=URI:https://www.sd735.org/middleton/calendar/8787984/mccracken-bo
 ys-jv-basketball-at-culver
DTSTART:20260211T220000Z
DTEND:20260211T230000Z
END:VEVENT
END:VCALENDAR
