BEGIN:VCALENDAR
VERSION:2.0
PRODID:SchoolNow
CALSCALE:GREGORIAN
BEGIN:VEVENT
UID:f78d162a-be7f-11f0-9ed7-0a58a9feac02
DTSTAMP:20251216T214528Z
SUMMARY:McCracken Boys Varsity Basketball Play In Game
URL;VALUE=URI:https://www.sd735.org/middleton/calendar/8787982/mccracken-bo
 ys-varsity-basketball-play-in-game
DTSTART;VALUE=DATE:20260302
DTEND;VALUE=DATE:20260303
END:VEVENT
END:VCALENDAR
