BEGIN:VCALENDAR
VERSION:2.0
PRODID:SchoolNow
CALSCALE:GREGORIAN
BEGIN:VEVENT
UID:f78d14ae-be7f-11f0-9ec9-0a58a9feac02
DTSTAMP:20251216T214528Z
SUMMARY:McCracken Boys Varsity Basketball at East Prairie
LOCATION:East Prairie School\, 7616 E Prairie Rd\, Skokie\, IL 60076\, USA
URL;VALUE=URI:https://www.sd735.org/middleton/calendar/8787981/mccracken-bo
 ys-varsity-basketball-at-east-prairie
DTSTART:20260126T220000Z
DTEND:20260126T230000Z
END:VEVENT
END:VCALENDAR
