BEGIN:VCALENDAR
VERSION:2.0
PRODID:SchoolNow
CALSCALE:GREGORIAN
BEGIN:VEVENT
UID:f78d0e46-be7f-11f0-a4fb-0a58a9feac02
DTSTAMP:20251216T214529Z
SUMMARY:McCracken Boys 6th Grade Basketball vs. Fairview
LOCATION:Oliver McCracken Middle School\, 8000 E Prairie Rd\, Skokie\, IL 6
 0076\, USA
URL;VALUE=URI:https://www.sd735.org/middleton/calendar/8787979/mccracken-bo
 ys-6th-grade-basketball-vs-fairview
DTSTART:20260224T231500Z
DTEND:20260225T001500Z
END:VEVENT
END:VCALENDAR
