BEGIN:VCALENDAR
VERSION:2.0
PRODID:SchoolNow
CALSCALE:GREGORIAN
BEGIN:VEVENT
UID:2a2f591c-ba84-11f0-99e5-0a58a9feac02
DTSTAMP:20251216T214528Z
SUMMARY:Middleton Robotics Team Practice
LOCATION:John Middleton Elementary School\, 8300 St Louis Ave\, Skokie\, IL
  60076\, USA
URL;VALUE=URI:https://www.sd735.org/middleton/calendar/8779222/middleton-ro
 botics-team-practice
DTSTART:20251115T150000Z
DTEND:20251115T173000Z
END:VEVENT
END:VCALENDAR
