BEGIN:VCALENDAR
VERSION:2.0
PRODID:SchoolNow
CALSCALE:GREGORIAN
BEGIN:VEVENT
UID:61576ebc-b655-11f0-90ea-02fb0e3a91a9
DTSTAMP:20251216T214528Z
SUMMARY:Building 73.5 Community Engagement Session #4
LOCATION:John Middleton Elementary School\, 8300 St Louis Ave\, Skokie\, IL
  60076\, USA
URL;VALUE=URI:https://www.sd735.org/middleton/calendar/8763386/building-73-
 5-community-engagement-session-4
DTSTART:20251212T010000Z
DTEND:20251212T030000Z
END:VEVENT
END:VCALENDAR
