BEGIN:VCALENDAR
VERSION:2.0
PRODID:SchoolNow
CALSCALE:GREGORIAN
BEGIN:VEVENT
UID:997bf40a-b1c0-11f0-9eb0-0e43fb889bef
DTSTAMP:20251216T214528Z
SUMMARY:Middleton Robotics Club Practice
LOCATION:John Middleton Elementary School\, 8300 St Louis Ave\, Skokie\, IL
  60076\, USA
URL;VALUE=URI:https://www.sd735.org/middleton/calendar/8749849/middleton-ro
 botics-club-practice
DTSTART:20251025T140000Z
DTEND:20251025T163000Z
END:VEVENT
END:VCALENDAR
