BEGIN:VCALENDAR
VERSION:2.0
PRODID:SchoolNow
CALSCALE:GREGORIAN
BEGIN:VEVENT
UID:a5344544-b0f4-11f0-b9d4-0a58a9feac02
DTSTAMP:20251216T214528Z
SUMMARY:McCracken Girls 6th Grade Basketball at Lincoln Hall
LOCATION:Lincoln Hall Middle School\, 6855 N Crawford Ave\, Lincolnwood\, I
 L 60712\, USA
URL;VALUE=URI:https://www.sd735.org/middleton/calendar/8747519/mccracken-gi
 rls-6th-grade-basketball-at-lincoln-hall
DTSTART:20251208T231500Z
DTEND:20251209T001500Z
END:VEVENT
END:VCALENDAR
