BEGIN:VCALENDAR
VERSION:2.0
PRODID:SchoolNow
CALSCALE:GREGORIAN
BEGIN:VEVENT
UID:a53440c6-b0f4-11f0-b1af-0a58a9feac02
DTSTAMP:20251216T214528Z
SUMMARY:McCracken Girls 6th Grade Basketball at Fairview
LOCATION:Fairview South Elementary School\, 7040 Laramie Ave\, Skokie\, IL 
 60077\, USA
URL;VALUE=URI:https://www.sd735.org/middleton/calendar/8747514/mccracken-gi
 rls-6th-grade-basketball-at-fairview
DTSTART:20251114T230000Z
DTEND:20251115T000000Z
END:VEVENT
END:VCALENDAR
