BEGIN:VCALENDAR
VERSION:2.0
PRODID:SchoolNow
CALSCALE:GREGORIAN
BEGIN:VEVENT
UID:a5343ad6-b0f4-11f0-89a1-0a58a9feac02
DTSTAMP:20251216T214528Z
SUMMARY:McCracken Girls Varsity Basketball Tournament FINAL ROUND
LOCATION:Niles West High School\, 5701 Oakton St\, Skokie\, IL 60077\, USA
URL;VALUE=URI:https://www.sd735.org/middleton/calendar/8747508/mccracken-gi
 rls-varsity-basketball-tournament-final-round
DTSTART:20251217T234500Z
DTEND:20251218T014500Z
END:VEVENT
END:VCALENDAR
